BEGIN:VCALENDAR
VERSION:2.0
PRODID:icalendar-ruby
CALSCALE:GREGORIAN
METHOD:PUBLISH
BEGIN:VEVENT
DTSTAMP:20260423T101904Z
UID:648-1916320@stpeterandpaul.ca
DTSTART:20260425T170000Z
DTEND:20260425T210000Z
CLASS:PUBLIC
CREATED:20260417T163400
DESCRIPTION:This year’s Spring Fair will feature plants and garden art\, 
 jewellery\, antiques and collectibles\, crafts and creations\, books\, toy
 s\, home baking\, jams and jellies\, silent auction\, vintage clothing and
  accessories\, white elephant\, Mother's Day gifts\, and more! \nAmple pa
 rking. Wheelchair accessible. 
LAST-MODIFIED:20260417T163400
LOCATION:
SUMMARY:St. Luke's Spring Fair
URL;VALUE=URI:https://www.stpeterandpaul.ca/events/st-lukes-spring-fair--64
 8/2026-04-25
ATTACH;FILENAME=2026 Spring Fair 1500x784.JPG;FMTTYPE=image/jpeg:https://dq
 5pwpg1q8ru0.cloudfront.net/2026/04/17/00/43/25/d041df0c-9c01-43d3-afe3-265
 adb8531f2/2026%20Spring%20Fair%201500x784.JPG
ATTACH;FILENAME=2026 Spring Fair Poster.pdf;FMTTYPE=application/pdf:https:/
 /dq5pwpg1q8ru0.cloudfront.net/2026/04/17/00/43/26/dec3769c-ddf3-4107-ac3f-
 020bf20136f3/2026%20Spring%20Fair%20Poster.pdf
END:VEVENT
END:VCALENDAR
