BEGIN:VCALENDAR
VERSION:2.0
PRODID:icalendar-ruby
CALSCALE:GREGORIAN
METHOD:PUBLISH
BEGIN:VEVENT
DTSTAMP:20260422T164748Z
UID:651-1923509@stpeterandpaul.ca
DTSTART:20260425T170000Z
DTEND:20260425T200000Z
CLASS:PUBLIC
CREATED:20260421T140610
DESCRIPTION:To (belatedly) observe Earth Day and get a few things done\, ou
 r parish will hold an outside work party on Saturday\, April 25. We will d
 o some gardening and other outside work from 10am until noon\, when we wil
 l share a simple soup-and-a-bun lunch together.\nCome work together\, or e
 at together or both!
LAST-MODIFIED:20260421T140610
LOCATION:SPSP
SUMMARY:Earth Day Work Bee
URL;VALUE=URI:https://www.stpeterandpaul.ca/events/earth-day-work-bee/2026-
 04-25
ATTACH;FILENAME=image_142d8d93.png;FMTTYPE=image/png:https://dq5pwpg1q8ru0.
 cloudfront.net/2026/04/21/21/06/09/05b53cc9-47e1-4452-ae9c-adcc4920ccda/im
 age_142d8d93.png
END:VEVENT
END:VCALENDAR
